BEGIN:VCALENDAR
VERSION:2.0
CALSCALE:GREGORIAN
METHOD:PUBLISH
X-WR-TIMEZONE:Australia/Sydney
BEGIN:VTIMEZONE
TZID:Australia/Sydney
BEGIN:STANDARD
TZNAME:AEST
END:STANDARD
END:VTIMEZONE
BEGIN:VEVENT
DTSTART;TZID=Australia/Sydney:20200313T090000
DTEND;TZID=Australia/Sydney:20200313T110000
DTSTAMP:20200301T050425
UID:497
SUMMARY:Class Liturgies and Open Classroom Sessions
DESCRIPTION:




Prep-Year 2:&amp;nbsp; 9am-10amYears 3-6:&amp;nbsp; 10am-11am


SEQUENCE:0
STATUS:CONFIRMED
TRANSP:OPAQUE
END:VEVENT
END:VCALENDAR